BEGIN:VCALENDAR
VERSION:2.0
PRODID:-//wp-events-plugin.com//6.6.3//EN
BEGIN:VEVENT
UID:1@manamascientific.com
DTSTART:20241114T100000Z
DTEND:20241114T140000Z
DTSTAMP:20241114T124534Z
URL:https://manamascientific.com/events/annual-science-and-innovation-conf
 erence-2024/
SUMMARY:Annual Science and Innovation Conference 2024
DESCRIPTION:Join us for a full day of discussions\, presentations\, and wor
 kshops focused on the latest innovations in molecular biology\, laboratory
  technology\, and scientific research. Connect with industry leaders and e
 xplore breakthrough tools designed to enhance laboratory efficiency and ac
 curacy.
ATTACH;FMTTYPE=image/jpeg:https://manamascientific.com/wp-content/uploads/
 2024/11/virus.jpg
END:VEVENT
END:VCALENDAR